BEGIN:VCALENDAR
VERSION:2.0
PRODID:-// - ECPv6.15.20//NONSGML v1.0//EN
CALSCALE:GREGORIAN
METHOD:PUBLISH
X-ORIGINAL-URL:https://www.lccameraclub.com
X-WR-CALDESC:Events for 
REFRESH-INTERVAL;VALUE=DURATION:PT1H
X-Robots-Tag:noindex
X-PUBLISHED-TTL:PT1H
BEGIN:VTIMEZONE
TZID:America/Toronto
BEGIN:DAYLIGHT
TZOFFSETFROM:-0500
TZOFFSETTO:-0400
TZNAME:EDT
DTSTART:20240310T070000
END:DAYLIGHT
BEGIN:STANDARD
TZOFFSETFROM:-0400
TZOFFSETTO:-0500
TZNAME:EST
DTSTART:20241103T060000
END:STANDARD
BEGIN:DAYLIGHT
TZOFFSETFROM:-0500
TZOFFSETTO:-0400
TZNAME:EDT
DTSTART:20250309T070000
END:DAYLIGHT
BEGIN:STANDARD
TZOFFSETFROM:-0400
TZOFFSETTO:-0500
TZNAME:EST
DTSTART:20251102T060000
END:STANDARD
BEGIN:DAYLIGHT
TZOFFSETFROM:-0500
TZOFFSETTO:-0400
TZNAME:EDT
DTSTART:20260308T070000
END:DAYLIGHT
BEGIN:STANDARD
TZOFFSETFROM:-0400
TZOFFSETTO:-0500
TZNAME:EST
DTSTART:20261101T060000
END:STANDARD
END:VTIMEZONE
BEGIN:VEVENT
DTSTART;TZID=America/Toronto:20250423T100000
DTEND;TZID=America/Toronto:20250423T120000
DTSTAMP:20260423T052227
CREATED:20250407T041546Z
LAST-MODIFIED:20250407T041546Z
UID:5297-1745402400-1745409600@www.lccameraclub.com
SUMMARY:April - Mid Month Coffee Meet
DESCRIPTION:  \n  \nCoffee Shop Meet
URL:https://www.lccameraclub.com/event/april-mid-month-coffee-meet/
LOCATION:C’est Tout\, 20 Beckwith St. North\, Smith falls\, ON\, K7A 2B3\, Canada
CATEGORIES:Outings & Photo Opportunities
ORGANIZER;CN="Michele Baddoo":MAILTO:Treasurerlccameraclub@gmail.com
END:VEVENT
END:VCALENDAR