BEGIN:VCALENDAR
VERSION:2.0
PRODID:-// - ECPv6.15.20//NONSGML v1.0//EN
CALSCALE:GREGORIAN
METHOD:PUBLISH
X-ORIGINAL-URL:https://www.lccameraclub.com
X-WR-CALDESC:Events for 
REFRESH-INTERVAL;VALUE=DURATION:PT1H
X-Robots-Tag:noindex
X-PUBLISHED-TTL:PT1H
BEGIN:VTIMEZONE
TZID:America/Toronto
BEGIN:DAYLIGHT
TZOFFSETFROM:-0500
TZOFFSETTO:-0400
TZNAME:EDT
DTSTART:20240310T070000
END:DAYLIGHT
BEGIN:STANDARD
TZOFFSETFROM:-0400
TZOFFSETTO:-0500
TZNAME:EST
DTSTART:20241103T060000
END:STANDARD
BEGIN:DAYLIGHT
TZOFFSETFROM:-0500
TZOFFSETTO:-0400
TZNAME:EDT
DTSTART:20250309T070000
END:DAYLIGHT
BEGIN:STANDARD
TZOFFSETFROM:-0400
TZOFFSETTO:-0500
TZNAME:EST
DTSTART:20251102T060000
END:STANDARD
BEGIN:DAYLIGHT
TZOFFSETFROM:-0500
TZOFFSETTO:-0400
TZNAME:EDT
DTSTART:20260308T070000
END:DAYLIGHT
BEGIN:STANDARD
TZOFFSETFROM:-0400
TZOFFSETTO:-0500
TZNAME:EST
DTSTART:20261101T060000
END:STANDARD
END:VTIMEZONE
BEGIN:VEVENT
DTSTART;TZID=America/Toronto:20251001T190000
DTEND;TZID=America/Toronto:20251001T210000
DTSTAMP:20260422T201036
CREATED:20250827T192331Z
LAST-MODIFIED:20250827T192445Z
UID:5520-1759345200-1759352400@www.lccameraclub.com
SUMMARY:October General Meeting
DESCRIPTION:
URL:https://www.lccameraclub.com/event/october-general-meeting/
LOCATION:St. Paul’s Church\, 25 Gore St. W\, Perth\,\, Ontario\, Canada
CATEGORIES:Meetings,Outings & Photo Opportunities
ORGANIZER;CN="Rob Donald":MAILTO:presidentoflccameraclub@gmail.com
END:VEVENT
BEGIN:VEVENT
DTSTART;TZID=America/Toronto:20251015T100000
DTEND;TZID=America/Toronto:20251015T120000
DTSTAMP:20260422T201036
CREATED:20250917T182659Z
LAST-MODIFIED:20250917T182659Z
UID:5807-1760522400-1760529600@www.lccameraclub.com
SUMMARY:October Coffee Meet
DESCRIPTION:
URL:https://www.lccameraclub.com/event/october-coffee-meet/
LOCATION:Hourglass Cafe\, 1 Sherbrooke St. E.\, Perth\, ontario\, Canada
CATEGORIES:Meetings,Outings & Photo Opportunities
END:VEVENT
END:VCALENDAR