BEGIN:VCALENDAR
VERSION:2.0
PRODID:-// - ECPv6.15.20//NONSGML v1.0//EN
CALSCALE:GREGORIAN
METHOD:PUBLISH
X-ORIGINAL-URL:https://www.lccameraclub.com
X-WR-CALDESC:Events for 
REFRESH-INTERVAL;VALUE=DURATION:PT1H
X-Robots-Tag:noindex
X-PUBLISHED-TTL:PT1H
BEGIN:VTIMEZONE
TZID:America/Toronto
BEGIN:DAYLIGHT
TZOFFSETFROM:-0500
TZOFFSETTO:-0400
TZNAME:EDT
DTSTART:20250309T070000
END:DAYLIGHT
BEGIN:STANDARD
TZOFFSETFROM:-0400
TZOFFSETTO:-0500
TZNAME:EST
DTSTART:20251102T060000
END:STANDARD
BEGIN:DAYLIGHT
TZOFFSETFROM:-0500
TZOFFSETTO:-0400
TZNAME:EDT
DTSTART:20260308T070000
END:DAYLIGHT
BEGIN:STANDARD
TZOFFSETFROM:-0400
TZOFFSETTO:-0500
TZNAME:EST
DTSTART:20261101T060000
END:STANDARD
BEGIN:DAYLIGHT
TZOFFSETFROM:-0500
TZOFFSETTO:-0400
TZNAME:EDT
DTSTART:20270314T070000
END:DAYLIGHT
BEGIN:STANDARD
TZOFFSETFROM:-0400
TZOFFSETTO:-0500
TZNAME:EST
DTSTART:20271107T060000
END:STANDARD
END:VTIMEZONE
BEGIN:VEVENT
DTSTART;TZID=America/Toronto:20260302T190000
DTEND;TZID=America/Toronto:20260302T210000
DTSTAMP:20260422T121640
CREATED:20250828T201157Z
LAST-MODIFIED:20260301T155230Z
UID:5559-1772478000-1772485200@www.lccameraclub.com
SUMMARY:March General Meeting
DESCRIPTION:Zoom only\, no in person meeting at the church.
URL:https://www.lccameraclub.com/event/march-general-meeting/
LOCATION:Zoom
CATEGORIES:Meetings,Outings & Photo Opportunities
ORGANIZER;CN="Rob Donald":MAILTO:presidentoflccameraclub@gmail.com
END:VEVENT
BEGIN:VEVENT
DTSTART;TZID=America/Toronto:20260325T100000
DTEND;TZID=America/Toronto:20260325T120000
DTSTAMP:20260422T121640
CREATED:20260116T141355Z
LAST-MODIFIED:20260116T141355Z
UID:5962-1774432800-1774440000@www.lccameraclub.com
SUMMARY:March Coffee Meet
DESCRIPTION:
URL:https://www.lccameraclub.com/event/march-coffee-meet/
LOCATION:Hourglass Cafe\, 1 Sherbrooke St. E.\, Perth\, ontario\, Canada
CATEGORIES:Meetings,Outings & Photo Opportunities
END:VEVENT
END:VCALENDAR