BEGIN:VCALENDAR
VERSION:2.0
PRODID:-// - ECPv6.15.20//NONSGML v1.0//EN
CALSCALE:GREGORIAN
METHOD:PUBLISH
X-ORIGINAL-URL:https://www.lccameraclub.com
X-WR-CALDESC:Events for 
REFRESH-INTERVAL;VALUE=DURATION:PT1H
X-Robots-Tag:noindex
X-PUBLISHED-TTL:PT1H
BEGIN:VTIMEZONE
TZID:America/Toronto
BEGIN:DAYLIGHT
TZOFFSETFROM:-0500
TZOFFSETTO:-0400
TZNAME:EDT
DTSTART:20250309T070000
END:DAYLIGHT
BEGIN:STANDARD
TZOFFSETFROM:-0400
TZOFFSETTO:-0500
TZNAME:EST
DTSTART:20251102T060000
END:STANDARD
BEGIN:DAYLIGHT
TZOFFSETFROM:-0500
TZOFFSETTO:-0400
TZNAME:EDT
DTSTART:20260308T070000
END:DAYLIGHT
BEGIN:STANDARD
TZOFFSETFROM:-0400
TZOFFSETTO:-0500
TZNAME:EST
DTSTART:20261101T060000
END:STANDARD
BEGIN:DAYLIGHT
TZOFFSETFROM:-0500
TZOFFSETTO:-0400
TZNAME:EDT
DTSTART:20270314T070000
END:DAYLIGHT
BEGIN:STANDARD
TZOFFSETFROM:-0400
TZOFFSETTO:-0500
TZNAME:EST
DTSTART:20271107T060000
END:STANDARD
END:VTIMEZONE
BEGIN:VEVENT
DTSTART;VALUE=DATE:20260512
DTEND;VALUE=DATE:20260515
DTSTAMP:20260423T050941
CREATED:20260108T145013Z
LAST-MODIFIED:20260116T143237Z
UID:5948-1778544000-1778803199@www.lccameraclub.com
SUMMARY:Prince Edward County Excursion
DESCRIPTION:More details forthcoming. No buses this time\, drive or car pool. \n2 nights\, 3 days shooting in and around Prince Edward County\, staying in Picton.
URL:https://www.lccameraclub.com/event/prince-edward-county-excursion/
LOCATION:Picton\, Picton\, Ontario\, Canada
CATEGORIES:Outings & Photo Opportunities
ORGANIZER;CN="Rob Donald":MAILTO:presidentoflccameraclub@gmail.com
END:VEVENT
BEGIN:VEVENT
DTSTART;TZID=America/Toronto:20260527T100000
DTEND;TZID=America/Toronto:20260527T120000
DTSTAMP:20260423T050941
CREATED:20260116T141725Z
LAST-MODIFIED:20260116T141725Z
UID:5966-1779876000-1779883200@www.lccameraclub.com
SUMMARY:May Coffee Meet
DESCRIPTION:
URL:https://www.lccameraclub.com/event/may-coffee-meet/
LOCATION:Hourglass Cafe\, 1 Sherbrooke St. E.\, Perth\, ontario\, Canada
CATEGORIES:Meetings,Outings & Photo Opportunities
END:VEVENT
BEGIN:VEVENT
DTSTART;TZID=America/Toronto:20260603T190000
DTEND;TZID=America/Toronto:20260603T210000
DTSTAMP:20260423T050941
CREATED:20250828T201644Z
LAST-MODIFIED:20250828T201644Z
UID:5565-1780513200-1780520400@www.lccameraclub.com
SUMMARY:June General Meeting
DESCRIPTION:
URL:https://www.lccameraclub.com/event/june-general-meeting/
LOCATION:St. Paul’s Church\, 25 Gore St. W\,\, Perth\, Ontario\, Canada
CATEGORIES:Meetings,Outings & Photo Opportunities
ORGANIZER;CN="Rob Donald":MAILTO:presidentoflccameraclub@gmail.com
END:VEVENT
BEGIN:VEVENT
DTSTART;TZID=America/Toronto:20260624T100000
DTEND;TZID=America/Toronto:20260624T120000
DTSTAMP:20260423T050941
CREATED:20260116T141839Z
LAST-MODIFIED:20260116T141839Z
UID:5968-1782295200-1782302400@www.lccameraclub.com
SUMMARY:June Coffee Meet
DESCRIPTION:
URL:https://www.lccameraclub.com/event/june-coffee-meet/
LOCATION:Hourglass Cafe\, 1 Sherbrooke St. E.\, Perth\, ontario\, Canada
CATEGORIES:Meetings,Outings & Photo Opportunities
END:VEVENT
END:VCALENDAR